BEGIN:VCALENDAR
VERSION:2.0
PRODID:icalendar-ruby
CALSCALE:GREGORIAN
BEGIN:VEVENT
DTSTAMP:20210122T125005Z
UID:298c7ae9-608c-4ec6-9e72-ba2ab0c80df3
DTSTART;TZID=Pacific/Auckland:20210124T130000
DTEND;TZID=Pacific/Auckland:20210124T133000
DESCRIPTION:Property ID# 499276
SUMMARY:Openhome for 17B Clawton Street
END:VEVENT
END:VCALENDAR
